BEGIN:VCALENDAR
VERSION:2.0
PRODID:-//ChamberMaster//Event Calendar 2.0//EN
METHOD:PUBLISH
X-PUBLISHED-TTL:P3D
REFRESH-INTERVAL:P3D
CALSCALE:GREGORIAN
BEGIN:VEVENT
DTSTART:20140711T190000Z
DTEND:20140711T200000Z
X-MICROSOFT-CDO-ALLDAYEVENT:FALSE
SUMMARY:Roundtable Discussion in Washington\, DC with Economic Counselor\, U.S. Embassy Bangkok
DESCRIPTION:Roundtable discussion with Ms. Kristina Kvien\, Economic Counselor\, U.S. Embassy Bangkok.
X-ALT-DESC;FMTTYPE=text/html:<span style="font-size:16px\;"><span style="font-family:arial\;">Roundtable discussion with Ms. Kristina Kvien\, Economic Counselor\, U.S. Embassy Bangkok.</span></span>
LOCATION:US-ASEAN Business Council 1101 17th St. NW\, Suite 411 Washington\, DC
UID:e.9078.1201
SEQUENCE:3
DTSTAMP:20260420T073035Z
URL:http://usasean.memberzone.com/events/details/roundtable-discussion-in-washington-dc-with-economic-counselor-u-s-embassy-bangkok-07-11-2014-1201
END:VEVENT

END:VCALENDAR
