BEGIN:VCALENDAR
VERSION:2.0
PRODID:-//ChamberMaster//Event Calendar 2.0//EN
METHOD:PUBLISH
X-PUBLISHED-TTL:P3D
REFRESH-INTERVAL:P3D
CALSCALE:GREGORIAN
BEGIN:VEVENT
DTSTART:20231101T140000Z
DTEND:20231101T150000Z
X-MICROSOFT-CDO-ALLDAYEVENT:FALSE
SUMMARY:Roundtable Dialogue on AI Policy with Officials from the ASEAN Committee on Science\, Technology\, and Innovation (COSTI)
DESCRIPTION:
X-ALT-DESC;FMTTYPE=text/html:
LOCATION:US-ASEAN Business Council 1101 17th Street NW\, Suite 411\, Washington DC 20036
UID:e.9078.9193
SEQUENCE:3
DTSTAMP:20260421T160638Z
URL:http://usasean.memberzone.com/events/details/roundtable-dialogue-on-ai-policy-with-officials-from-the-asean-committee-on-science-technology-and-innovation-costi-9193
END:VEVENT

END:VCALENDAR
