BEGIN:VCALENDAR
VERSION:2.0
PRODID:-//ChamberMaster//Event Calendar 2.0//EN
METHOD:PUBLISH
X-PUBLISHED-TTL:P3D
REFRESH-INTERVAL:P3D
CALSCALE:GREGORIAN
BEGIN:VEVENT
DTSTART:20180619T160000Z
DTEND:20180619T173000Z
X-MICROSOFT-CDO-ALLDAYEVENT:FALSE
SUMMARY:RESCHEDULED: Luncheon Dialogue with Assistant Secretary of Defense Randall Schriver
DESCRIPTION:
X-ALT-DESC;FMTTYPE=text/html:
LOCATION:
UID:e.9078.6584
SEQUENCE:3
DTSTAMP:20260419T235511Z
URL:http://usasean.memberzone.com/events/details/rescheduled-luncheon-dialogue-with-assistant-secretary-of-defense-randall-schriver-6584
END:VEVENT

END:VCALENDAR
