BEGIN:VCALENDAR
VERSION:2.0
PRODID:-//ChamberMaster//Event Calendar 2.0//EN
METHOD:PUBLISH
X-PUBLISHED-TTL:P3D
REFRESH-INTERVAL:P3D
CALSCALE:GREGORIAN
BEGIN:VEVENT
DTSTART;VALUE=DATE:20120919
DTEND;VALUE=DATE:20120920
TRANSP:TRANSPARENT
X-MICROSOFT-CDO-ALLDAYEVENT:TRUE
SUMMARY:Renewable Energy Opportunities in Indonesia - Sep 19 2012
DESCRIPTION:
X-ALT-DESC;FMTTYPE=text/html:
LOCATION:
UID:e.9078.497
SEQUENCE:3
DTSTAMP:20260424T185717Z
URL:http://usasean.memberzone.com/events/details/renewable-energy-opportunities-in-indonesia-sep-19-2012-09-19-2012-497
END:VEVENT

END:VCALENDAR
