BEGIN:VCALENDAR
VERSION:2.0
PRODID:-//ChamberMaster//Event Calendar 2.0//EN
METHOD:PUBLISH
X-PUBLISHED-TTL:P3D
REFRESH-INTERVAL:P3D
CALSCALE:GREGORIAN
BEGIN:VEVENT
DTSTART:20180625T023000Z
DTEND:20180625T040000Z
X-MICROSOFT-CDO-ALLDAYEVENT:FALSE
SUMMARY:Regional Updates (ASEAN & Southeast Asia) by Ambassador Michael Michalak
DESCRIPTION:Amb. Michalak will be providing an overview of the opportunities\, challenges\, and trends we are seeing throughout ASEAN\, including a progress report of Singapore's ASEAN 2018 chairmanship year. He will also be giving an update on the various Council engagements throughout the region.
X-ALT-DESC;FMTTYPE=text/html:<div style="margin:0\;"><span lang="en-US"><font face="Calibri\,sans-serif" size="2"><span style="font-size:11pt\;"><i>Amb. Michalak will be providing an overview of the opportunities\, challenges\, and trends we are seeing throughout ASEAN\, including a progress report of Singapore&rsquo\;s ASEAN 2018 chairmanship year. He will also be giving an update on the various Council engagements throughout the region.</i></span></font></span></div>\n\n<div style="margin:0\;"><span lang="en-US"><font face="Calibri\,sans-serif" size="2"><span style="font-size:11pt\;">&nbsp\;</span></font></span></div>\n
LOCATION:26th Floor Maxis Tower Kuala Lumpur City Centre 50088 Kuala Lumpur
UID:e.9078.6600
SEQUENCE:3
DTSTAMP:20260419T235512Z
URL:http://usasean.memberzone.com/events/details/regional-updates-asean-southeast-asia-by-ambassador-michael-michalak-6600
END:VEVENT

END:VCALENDAR
