BEGIN:VCALENDAR
VERSION:2.0
PRODID:-//ChamberMaster//Event Calendar 2.0//EN
METHOD:PUBLISH
X-PUBLISHED-TTL:P3D
REFRESH-INTERVAL:P3D
CALSCALE:GREGORIAN
BEGIN:VEVENT
DTSTART:20180925T210000Z
DTEND:20180925T230000Z
X-MICROSOFT-CDO-ALLDAYEVENT:FALSE
SUMMARY:Reception and Panel: Improving the Health of Women\, Children\, and Adolescents in ASEAN (Guests)
DESCRIPTION:Please join the US-ASEAN Business Council for a Reception and Panel to discuss the goals of the Every Woman Every Child ("EWEC") movement to improve the health of women\, children and adolescents\, and the role that the private sector can play in helping ASEAN governments to realize these goals in the region.
X-ALT-DESC;FMTTYPE=text/html:<span style="font-family: arial\, sans-serif\; font-size: 16px\;">Please join the US-ASEAN Business Council for a Reception and Panel to discuss&nbsp\;the goals of the&nbsp\;</span><em style="font-family: arial\, sans-serif\; font-size: 16px\;">Every Woman Every Child (&quot\;EWEC&quot\;)</em><span style="font-family: arial\, sans-serif\; font-size: 16px\;">&nbsp\;movement to improve the health of women\, children and adolescents\, and the role&nbsp\;that the private sector can play in helping ASEAN governments to realize these goals in the region.</span>
LOCATION:Grand Hyatt New York New York City
UID:e.9078.7677
SEQUENCE:3
DTSTAMP:20260420T070551Z
URL:http://usasean.memberzone.com/events/details/reception-and-panel-improving-the-health-of-women-children-and-adolescents-in-asean-guests-7677
END:VEVENT

END:VCALENDAR
