BEGIN:VCALENDAR
VERSION:2.0
PRODID:-//ChamberMaster//Event Calendar 2.0//EN
METHOD:PUBLISH
X-PUBLISHED-TTL:P3D
REFRESH-INTERVAL:P3D
CALSCALE:GREGORIAN
BEGIN:VEVENT
DTSTART:20180622T020000Z
DTEND:20180622T030000Z
X-MICROSOFT-CDO-ALLDAYEVENT:FALSE
SUMMARY:Quarterly Infrastructure Committee Conference Call
DESCRIPTION:Quarterly Infrastructure Committee Conference Call
X-ALT-DESC;FMTTYPE=text/html:Quarterly Infrastructure Committee Conference Call
LOCATION:Conference Call
UID:e.9078.6578
SEQUENCE:3
DTSTAMP:20260420T014338Z
URL:http://usasean.memberzone.com/events/details/quarterly-infrastructure-committee-conference-call-6578
END:VEVENT

END:VCALENDAR
