BEGIN:VCALENDAR
VERSION:2.0
PRODID:-//ChamberMaster//Event Calendar 2.0//EN
METHOD:PUBLISH
X-PUBLISHED-TTL:P3D
REFRESH-INTERVAL:P3D
CALSCALE:GREGORIAN
BEGIN:VEVENT
DTSTART:20240110T010000Z
DTEND:20240110T023000Z
X-MICROSOFT-CDO-ALLDAYEVENT:FALSE
SUMMARY:Quarterly ICT Committee Call and 2024 ADGMIN Mission Planning Call #1
DESCRIPTION:
X-ALT-DESC;FMTTYPE=text/html:
LOCATION:Virtual Call (Dial-in details will be sent to members registered for the call)
UID:e.9078.9223
SEQUENCE:3
DTSTAMP:20260422T024110Z
URL:http://usasean.memberzone.com/events/details/quarterly-ict-committee-call-and-2024-adgmin-mission-planning-call-1-9223
END:VEVENT

END:VCALENDAR
