BEGIN:VCALENDAR
VERSION:2.0
PRODID:-//ChamberMaster//Event Calendar 2.0//EN
METHOD:PUBLISH
X-PUBLISHED-TTL:P3D
REFRESH-INTERVAL:P3D
CALSCALE:GREGORIAN
BEGIN:VEVENT
DTSTART:20140723T123000Z
DTEND:20140723T133000Z
X-MICROSOFT-CDO-ALLDAYEVENT:FALSE
SUMMARY:Quarterly Energy Committee Call
DESCRIPTION:Please join us for the next quarterly Energy Committee call.  During the call we will discuss the Council's Energy Mission to the ASEAN Energy Ministers Meeting in Laos the week of September 22-26\, 2014.
X-ALT-DESC;FMTTYPE=text/html:Please join us for the next quarterly Energy Committee call.&nbsp\; During the call we will discuss the Council&#39\;s Energy Mission to the ASEAN Energy Ministers Meeting in Laos the week of September 22-26\, 2014.&nbsp\;
LOCATION:Dial in: Toll-free dial-in number (U.S. and Canada): (877) 505-1427 International dial-in number: (281) 319-9194 Conference code: 5935755663
UID:e.9078.1189
SEQUENCE:3
DTSTAMP:20260420T072302Z
URL:http://usasean.memberzone.com/events/details/quarterly-energy-committee-call-07-23-2014-1189
END:VEVENT

END:VCALENDAR
