BEGIN:VCALENDAR
VERSION:2.0
PRODID:-//ChamberMaster//Event Calendar 2.0//EN
METHOD:PUBLISH
X-PUBLISHED-TTL:P3D
REFRESH-INTERVAL:P3D
CALSCALE:GREGORIAN
BEGIN:VEVENT
DTSTART:20140904T133000Z
DTEND:20140904T143000Z
X-MICROSOFT-CDO-ALLDAYEVENT:FALSE
SUMMARY:Quarterly Coffee Discussion with Ambassador Cuisia
DESCRIPTION:Please join us for the next installment of our quarterly coffee series with Ambassador Jose L. Cuisia\, Jr.
X-ALT-DESC;FMTTYPE=text/html:Please join us for the next installment of our quarterly coffee series with Ambassador Jose L.&nbsp\;Cuisia\, Jr.<br />\n&nbsp\;
LOCATION:US-ASEAN Business Council 1101 17th Street\, NW\, Ste. 411 Washington\, DC 20036
UID:e.9078.1241
SEQUENCE:3
DTSTAMP:20260420T040535Z
URL:http://usasean.memberzone.com/events/details/quarterly-coffee-discussion-with-ambassador-cuisia-09-04-2014-1241
END:VEVENT

END:VCALENDAR
