BEGIN:VCALENDAR
VERSION:2.0
PRODID:-//ChamberMaster//Event Calendar 2.0//EN
METHOD:PUBLISH
X-PUBLISHED-TTL:P3D
REFRESH-INTERVAL:P3D
CALSCALE:GREGORIAN
BEGIN:VEVENT
DTSTART:20221201T020000Z
DTEND:20221201T033000Z
X-MICROSOFT-CDO-ALLDAYEVENT:FALSE
SUMMARY:Q4 ICT Committee Meeting
DESCRIPTION:
X-ALT-DESC;FMTTYPE=text/html:<div class="row gz-event-details-header" style="box-sizing: border-box\; margin-left: -15px\; margin-right: -15px\; display: flex\; flex-wrap: wrap\; outline: 0px\; align-items: center\; -webkit-box-align: center\;">\n<div class="col pl-0" style="box-sizing: border-box\; position: relative\; width: 937px\; min-height: 1px\; padding-right: 15px\; padding-left: 0px !important\; flex-basis: 0px\; flex-grow: 1\; max-width: 100%\; outline: 0px\;">\n<div class="d-flex gz-details-head" style="box-sizing: border-box\; display: flex !important\; outline: 0px\; align-items: center\; -webkit-box-align: center\;">\n<h1 class="gz-pagetitle" itemprop="name" style="box-sizing: border-box\; font-size: 36px\; margin: 0px 15px 0px 0px\; font-family: Arial\, Helvetica\, sans-serif\; line-height: 1.1\; color: rgb(68\, 68\, 68)\; outline: 0px\;">&nbsp\;</h1>\n</div>\n</div>\n</div>\n
LOCATION:Virtual meeting
UID:e.9078.8911
SEQUENCE:3
DTSTAMP:20260422T061617Z
URL:http://usasean.memberzone.com/events/details/q4-ict-committee-meeting-8911
END:VEVENT

END:VCALENDAR
