BEGIN:VCALENDAR
VERSION:2.0
PRODID:-//ChamberMaster//Event Calendar 2.0//EN
METHOD:PUBLISH
X-PUBLISHED-TTL:P3D
REFRESH-INTERVAL:P3D
CALSCALE:GREGORIAN
BEGIN:VEVENT
DTSTART:20231212T020000Z
DTEND:20231212T030000Z
X-MICROSOFT-CDO-ALLDAYEVENT:FALSE
SUMMARY:Q4 Food and Agriculture Committee Call
DESCRIPTION:Q4 US-ABC Food and Agriculture Committee Call
X-ALT-DESC;FMTTYPE=text/html:Q4 US-ABC Food and Agriculture Committee Call
LOCATION:Zoom: Join Zoom Meeting (Recommended) https://usasean.zoom.us/j/85619377022?pwd=PMBnPQMo6cRtIc1x0wVdP4KCBMAzeF.1 Meeting ID: 856 1937 7022 Password: 907250
UID:e.9078.9221
SEQUENCE:3
DTSTAMP:20260421T230523Z
URL:http://usasean.memberzone.com/events/details/q4-food-and-agriculture-committee-call-9221
END:VEVENT

END:VCALENDAR
