BEGIN:VCALENDAR
VERSION:2.0
PRODID:-//ChamberMaster//Event Calendar 2.0//EN
METHOD:PUBLISH
X-PUBLISHED-TTL:P3D
REFRESH-INTERVAL:P3D
CALSCALE:GREGORIAN
BEGIN:VEVENT
DTSTART:20201208T000000Z
DTEND:20201208T010000Z
X-MICROSOFT-CDO-ALLDAYEVENT:FALSE
SUMMARY:Q4 Financial Services Committee Call
DESCRIPTION:
X-ALT-DESC;FMTTYPE=text/html:
LOCATION:Zoom Dial-In will be distributed in a later date
UID:e.9078.8345
SEQUENCE:3
DTSTAMP:20260423T213830Z
URL:http://usasean.memberzone.com/events/details/q4-financial-services-committee-call-8345
END:VEVENT

END:VCALENDAR
