BEGIN:VCALENDAR
VERSION:2.0
PRODID:-//ChamberMaster//Event Calendar 2.0//EN
METHOD:PUBLISH
X-PUBLISHED-TTL:P3D
REFRESH-INTERVAL:P3D
CALSCALE:GREGORIAN
BEGIN:VEVENT
DTSTART:20201215T010000Z
DTEND:20201215T020000Z
X-MICROSOFT-CDO-ALLDAYEVENT:FALSE
SUMMARY:Q4-2020 Food & Agriculture Committee Call
DESCRIPTION:Q4 Food & Agriculture Committee Call
X-ALT-DESC;FMTTYPE=text/html:Q4 Food &amp\; Agriculture Committee Call
LOCATION:Zoom Dial-in
UID:e.9078.8342
SEQUENCE:3
DTSTAMP:20260423T212022Z
URL:http://usasean.memberzone.com/events/details/q4-2020-food-agriculture-committee-call-8342
END:VEVENT

END:VCALENDAR
