BEGIN:VCALENDAR
VERSION:2.0
PRODID:-//ChamberMaster//Event Calendar 2.0//EN
METHOD:PUBLISH
X-PUBLISHED-TTL:P3D
REFRESH-INTERVAL:P3D
CALSCALE:GREGORIAN
BEGIN:VEVENT
DTSTART:20230821T130000Z
DTEND:20230821T140000Z
X-MICROSOFT-CDO-ALLDAYEVENT:FALSE
SUMMARY:Q3 Supply Chains Committee Call
DESCRIPTION:Q3 Supply Chains Committee Call\n\n \n\nProposed Agenda\n\n	Welcome Remarks\n	Opening Statement of FedEx as Committee Chair\n	Introduction of Committee Leadership: FedEx as Chair\n	Discussion of Committee Priorities\n	\n		Committee Leaders views: Chair FedEx\, Vice Chairs 3M and UPS\n		Other Committee Members: Zuellig Pharma\, Boeing\, Autodesk\, EGA\, Harley Davidson\n		Brainstorm to identify focus areas in Supply Chains Resilience\, possibly on distribution\, product traceability\, and cold chain logistics)\n	\n	\n	Upcoming Mission to the ASEAN Transport Ministers Meeting on November 6-10 (Luang Prabang\, Laos PDR)\n	Update on Baseline research on Electric Vehicles\n	Other matters
X-ALT-DESC;FMTTYPE=text/html:Q3 Supply Chains Committee Call<br />\n&nbsp\;<br />\nProposed Agenda\n<ol>\n	<li style="margin-right:0in\;font-size:12pt\;font-family:Times New Roman\, serif\;color:rgb(0\, 0\, 0)\;"><span style="color:#212121\;"><span style="font-family:calibri\,sans-serif\;"><span style="font-size:11pt\;">Welcome Remarks</span></span></span></li>\n	<li style="margin-right:0in\;font-size:12pt\;font-family:Times New Roman\, serif\;color:rgb(0\, 0\, 0)\;"><span style="color:#212121\;"><span style="font-family:calibri\,sans-serif\;"><span style="font-size:11pt\;">Opening Statement of FedEx as Committee Chair</span></span></span></li>\n	<li style="margin-right:0in\;font-size:12pt\;font-family:Times New Roman\, serif\;color:rgb(0\, 0\, 0)\;"><span style="color:#212121\;"><span style="font-family:calibri\,sans-serif\;"><span style="font-size:11pt\;">Introduction of Committee Leadership: FedEx as Chair</span></span></span></li>\n	<li style="margin-right:0in\;font-size:12pt\;font-family:Times New Roman\, serif\;color:rgb(0\, 0\, 0)\;"><span style="color:#212121\;"><span style="font-family:calibri\,sans-serif\;"><span style="font-size:11pt\;">Discussion of Committee Priorities</span></span></span>\n	<ol style="list-style-type:lower-alpha\;">\n		<li style="margin-right:0in\;font-size:12pt\;font-family:Times New Roman\, serif\;color:rgb(0\, 0\, 0)\;"><span style="color:#212121\;"><span style="font-family:calibri\,sans-serif\;"><span style="font-size:11pt\;">Committee Leaders views: Chair FedEx\, Vice Chairs 3M and UPS</span></span></span></li>\n		<li style="margin-right:0in\;font-size:12pt\;font-family:Times New Roman\, serif\;color:rgb(0\, 0\, 0)\;"><span style="color:#212121\;"><span style="font-family:calibri\,sans-serif\;"><span style="font-size:11pt\;">Other Committee Members: Zuellig Pharma\, Boeing\, Autodesk\, EGA\, Harley Davidson</span></span></span></li>\n		<li style="margin-right:0in\;font-size:12pt\;font-family:Times New Roman\, serif\;color:rgb(0\, 0\, 0)\;"><span style="color:#212121\;"><span style="font-family:calibri\,sans-serif\;"><span style="font-size:11pt\;">Brainstorm to identify focus areas in Supply Chains Resilience\, possibly on distribution\, product traceability\, and cold chain logistics)</span></span></span></li>\n	</ol>\n	</li>\n	<li style="margin-right:0in\;font-size:12pt\;font-family:Times New Roman\, serif\;color:rgb(0\, 0\, 0)\;"><span style="color:#212121\;"><span style="font-family:calibri\,sans-serif\;"><span style="font-size:11pt\;">Upcoming Mission to the ASEAN Transport Ministers Meeting on November 6-10 (Luang Prabang\, Laos PDR)</span></span></span></li>\n	<li style="font-size:12pt\;font-family:Times New Roman\, serif\;color:rgb(0\, 0\, 0)\;"><span style="color:#212121\;"><span style="font-family:calibri\,sans-serif\;"><span style="font-size:11pt\;">Update on Baseline research on Electric Vehicles</span></span></span></li>\n	<li style="font-size:12pt\;font-family:Times New Roman\, serif\;color:rgb(0\, 0\, 0)\;"><span style="color:#212121\;"><span style="font-family:calibri\,sans-serif\;"><span style="font-size:11pt\;">Other matters</span></span></span></li>\n</ol>\n
LOCATION:Virtual Meeting over Zoom
UID:e.9078.9103
SEQUENCE:3
DTSTAMP:20260421T160137Z
URL:http://usasean.memberzone.com/events/details/q3-supply-chains-committee-call-9103
END:VEVENT

END:VCALENDAR
