BEGIN:VCALENDAR
VERSION:2.0
PRODID:-//ChamberMaster//Event Calendar 2.0//EN
METHOD:PUBLISH
X-PUBLISHED-TTL:P3D
REFRESH-INTERVAL:P3D
CALSCALE:GREGORIAN
BEGIN:VEVENT
DTSTART:20240513T124500Z
DTEND:20240513T141500Z
X-MICROSOFT-CDO-ALLDAYEVENT:FALSE
SUMMARY:Q2 ICT Committee Meeting featuring Deputy Assistant Secretary Steve Lang (In Person)
DESCRIPTION:
X-ALT-DESC;FMTTYPE=text/html:
LOCATION:Google DC 25 Massachusetts Ave NW Suite 900 Washington\, DC 20001
UID:e.9078.9289
SEQUENCE:3
DTSTAMP:20260422T091728Z
URL:http://usasean.memberzone.com/events/details/q2-ict-committee-meeting-featuring-deputy-assistant-secretary-steve-lang-in-person-9289
END:VEVENT

END:VCALENDAR
