BEGIN:VCALENDAR
VERSION:2.0
PRODID:-//ChamberMaster//Event Calendar 2.0//EN
METHOD:PUBLISH
X-PUBLISHED-TTL:P3D
REFRESH-INTERVAL:P3D
CALSCALE:GREGORIAN
BEGIN:VEVENT
DTSTART:20240515T130000Z
DTEND:20240515T130000Z
X-MICROSOFT-CDO-ALLDAYEVENT:FALSE
SUMMARY:Q2 Aerospace\, Defense & Security Committee Call
DESCRIPTION:
X-ALT-DESC;FMTTYPE=text/html:
LOCATION:Virtual Call (Dial-in details will be sent to members registered for the call)
UID:e.9078.9290
SEQUENCE:3
DTSTAMP:20260422T091208Z
URL:http://usasean.memberzone.com/events/details/q2-aerospace-defense-security-committee-call-9290
END:VEVENT

END:VCALENDAR
