BEGIN:VCALENDAR
VERSION:2.0
PRODID:-//ChamberMaster//Event Calendar 2.0//EN
METHOD:PUBLISH
X-PUBLISHED-TTL:P3D
REFRESH-INTERVAL:P3D
CALSCALE:GREGORIAN
BEGIN:VEVENT
DTSTART:20190802T010000Z
DTEND:20190802T020000Z
X-MICROSOFT-CDO-ALLDAYEVENT:FALSE
SUMMARY:Q2 2019 In-Person Travel and Tourism Committee Meeting
DESCRIPTION:
X-ALT-DESC;FMTTYPE=text/html:
LOCATION:US-ASEAN Business Council 100 Beach Road #22-04/05 Shaw Tower Singapore 189702
UID:e.9078.7971
SEQUENCE:3
DTSTAMP:20260424T224233Z
URL:http://usasean.memberzone.com/events/details/q2-2019-in-person-travel-and-tourism-committee-meeting-7971
END:VEVENT

END:VCALENDAR
