BEGIN:VCALENDAR
VERSION:2.0
PRODID:-//ChamberMaster//Event Calendar 2.0//EN
METHOD:PUBLISH
X-PUBLISHED-TTL:P3D
REFRESH-INTERVAL:P3D
CALSCALE:GREGORIAN
BEGIN:VEVENT
DTSTART:20130307T140000Z
DTEND:20130307T150000Z
X-MICROSOFT-CDO-ALLDAYEVENT:FALSE
SUMMARY:Private Sector Roundtable on Global Supply Chain Security with GAO
DESCRIPTION:Officials from the U.S. Government Accountability Office are traveling to Singapore as part of a review of the U.S. government's "Global Supply Chain Security Strategy." The review is being conducted at the request of the U.S. Senate Homeland Security and Governmental Affairs Committee.\n\n\n\nThis roundtable will provide U.S. businesses an opportunity to provide input on the various security initiatives associated with this strategy such as Customs Trade Partnership Against Terrorism (C-TPAT)\, other regional authorized economic operator programs (e.g. Singapore Secure Trade Partnership)\, "10+2" advanced data requirements\, the International Port Security Program\, and the Container Security Initiative.
X-ALT-DESC;FMTTYPE=text/html:<span style="font-family:arial\;"><span style="font-size: 14px\;">Officials from the U.S. Government Accountability Office are traveling to Singapore as part of a review of the U.S. government&rsquo\;s &ldquo\;Global Supply Chain Security Strategy.&rdquo\; The review is being conducted at the request of the U.S. Senate Homeland Security and Governmental Affairs Committee.<br />\n<br />\nThis roundtable will provide U.S. businesses an opportunity to provide input on the various security initiatives associated with this strategy such as Customs Trade Partnership Against Terrorism (C-TPAT)\, other regional authorized economic operator programs (e.g. Singapore Secure Trade Partnership)\, &ldquo\;10+2&rdquo\; advanced data requirements\, the International Port Security Program\, and the Container Security Initiative.<br />\n</span></span>
LOCATION:US-ASEAN Business Council\, Singapore Office 100 Beach Road\, #22-04/05 Shaw Tower\, Singapore 189702
UID:e.9078.715
SEQUENCE:3
DTSTAMP:20260422T061258Z
URL:http://usasean.memberzone.com/events/details/private-sector-roundtable-on-global-supply-chain-security-with-gao-03-07-2013-715
END:VEVENT

END:VCALENDAR
