BEGIN:VCALENDAR
VERSION:2.0
PRODID:-//ChamberMaster//Event Calendar 2.0//EN
METHOD:PUBLISH
X-PUBLISHED-TTL:P3D
REFRESH-INTERVAL:P3D
CALSCALE:GREGORIAN
BEGIN:VEVENT
DTSTART;VALUE=DATE:20180411
DTEND;VALUE=DATE:20180412
TRANSP:TRANSPARENT
X-MICROSOFT-CDO-ALLDAYEVENT:TRUE
SUMMARY:Private Sector Consultation with the ASEAN Coordinating Committee on Customs
DESCRIPTION:We would like to invite you to join us for our latest consultation with the ASEAN Coordinating Committee on Customs to review our customs engagement and discuss plans for the upcoming ASEAN Directors-General of Customs Meeting. \n\n\n\nMore details will be distributed to interested members soon.
X-ALT-DESC;FMTTYPE=text/html:We would like to invite you to join us for our latest consultation&nbsp\;with the ASEAN Coordinating Committee on Customs to review our customs engagement and discuss plans for the upcoming ASEAN Directors-General of Customs Meeting.&nbsp\;<br />\n<br />\nMore details will be distributed to interested members soon.
LOCATION:Bandung\, Indonesia
UID:e.9078.6506
SEQUENCE:3
DTSTAMP:20260419T204012Z
URL:http://usasean.memberzone.com/events/details/private-sector-consultation-with-the-asean-coordinating-committee-on-customs-6506
END:VEVENT

END:VCALENDAR
