BEGIN:VCALENDAR
VERSION:2.0
PRODID:-//ChamberMaster//Event Calendar 2.0//EN
METHOD:PUBLISH
X-PUBLISHED-TTL:P3D
REFRESH-INTERVAL:P3D
CALSCALE:GREGORIAN
BEGIN:VEVENT
DTSTART:20180305T133000Z
DTEND:20180305T143000Z
X-MICROSOFT-CDO-ALLDAYEVENT:FALSE
SUMMARY:Pre-Mission Planning Call for the 2018 Vietnam Missions with Amb Daniel Kritenbrink
DESCRIPTION:Please join us for our pre-mission planning call for the 2018 Vietnam Business Mission and 2018 Health & Life Sciences Industry Mission to Vietnam. At the beginning of the call\, the Honorable Daniel Kritenbrink\, new U.S. Ambassador to Vietnam\, will brief members on the latest developments in Vietnam and share his priorities for 2018. Please click here to view his bio.\n\n\n\nThe remainder of the call will focus on discussions of the two upcoming Vietnam missions: the Vietnam Business Mission on March 27-29 and the Health & Life Sciences Industry Mission to Vietnam on March 29-30. All registered participants or interested members are highly encouraged to join the call.\n\n\n\nTo register for the mission\, please click here. The deadline registration is March 13\, 2018. \n\n\n\nIf you have any questions\, please contact Hai Pham at hpham@usasean.org.
X-ALT-DESC;FMTTYPE=text/html:Please join us for our pre-mission planning call for the 2018 Vietnam Business Mission and 2018 Health &amp\; Life Sciences Industry Mission to Vietnam. At the beginning of the call\, the Honorable Daniel Kritenbrink\, new U.S. Ambassador to Vietnam\, will brief members on the latest developments in Vietnam and share his priorities for 2018. Please <a href="https://vn.usembassy.gov/embassy-consulate/embassy/ambassador/">click here</a> to view his bio.<br />\n<br />\nThe remainder of the call will focus on discussions of the two upcoming Vietnam missions: the Vietnam Business Mission on March 27-29 and the Health &amp\; Life Sciences Industry Mission to Vietnam on March 29-30. All registered participants or interested members are highly encouraged to join the call.<br />\n<br />\nTo register for the mission\, please&nbsp\;<a href="https://www.usasean.org/mission/registration">click here</a>. The deadline registration is March 13\, 2018.&nbsp\;<br />\n<br />\nIf you have any questions\, please contact Hai Pham at hpham@usasean.org.
LOCATION:Conference Call - call-in details and agenda will be sent to registrants prior to the call.
UID:e.9078.6488
SEQUENCE:3
DTSTAMP:20260419T184410Z
URL:http://usasean.memberzone.com/events/details/pre-mission-planning-call-for-the-2018-vietnam-missions-with-amb-daniel-kritenbrink-6488
END:VEVENT

END:VCALENDAR
