BEGIN:VCALENDAR
VERSION:2.0
PRODID:-//ChamberMaster//Event Calendar 2.0//EN
METHOD:PUBLISH
X-PUBLISHED-TTL:P3D
REFRESH-INTERVAL:P3D
CALSCALE:GREGORIAN
BEGIN:VEVENT
DTSTART:20180919T010000Z
DTEND:20180919T020000Z
X-MICROSOFT-CDO-ALLDAYEVENT:FALSE
SUMMARY:Pre-Mission Planning Call: 2018 Cambodia Business Mission
DESCRIPTION:Dear Members\,\n\n\n\nPlease join us for a pre-mission planning call for the 2018 Cambodia Business Mission. \n\n\n\nThis year's Cambodia Business Mission includes tentative meetings with Prime Minister Hun Sen\, key cabinet ministers\, and prominent local and international institutions.  The proposed priority themes are as follows:\n\n	Identify and engage key decision makers in the post-general election landscape.\n	Support the Royal Government of Cambodia in developing and implementing key economic reforms.\n	Highlight the importance of energy and infrastructure development\, including in the Overlapping Claims Area (OCA) between Cambodia and Thailand.\n	Support and encourage the Government of Cambodia to implement better governance and transparency.\n	Support capacity building efforts\, including human resource development\, CSR\, SME training\, youth leadership and cultural exchange programs.\n\nIf you have any questions\, please contact Jack Myint at jmyint@usasean.org.
X-ALT-DESC;FMTTYPE=text/html:<span style="font-size: 16px\; font-family: arial\, sans-serif\;">Dear Members\,<br />\n<br />\nPlease join us for a pre-mission planning call for the 2018 Cambodia Business Mission.&nbsp\;<br />\n<br />\nThis year&#39\;s Cambodia Business Mission includes tentative meetings with Prime Minister Hun Sen\, key cabinet ministers\, and prominent local and international institutions. &nbsp\;The proposed priority themes are as follows:</span>\n<ul style="font-family: arial\, helvetica\, sans-serif\; font-size: 16px\;">\n	<li><span style="font-family:arial\,sans-serif\;"><span style="font-size:12.0pt\;">Identify and engage key decision makers in the post-general election landscape.</span></span></li>\n	<li><span style="font-family:arial\,sans-serif\;"><span style="font-size:12.0pt\;">Support the Royal Government of Cambodia in developing and implementing key economic reforms.</span></span></li>\n	<li><span style="font-family:arial\,sans-serif\;"><span style="font-size:12.0pt\;">Highlight the importance of energy and infrastructure development\, including in the Overlapping Claims Area (OCA) between Cambodia and Thailand.</span></span></li>\n	<li><span style="font-family:arial\,sans-serif\;"><span style="font-size:12.0pt\;">Support&nbsp\;and encourage&nbsp\;the Government of Cambodia to implement&nbsp\;better governance and transparency.</span></span></li>\n	<li><span style="font-family:arial\,sans-serif\;"><span style="font-size:12.0pt\;">Support&nbsp\;capacity building efforts\, including human resource development\, CSR\, SME training\, youth leadership&nbsp\;and cultural exchange programs.</span></span></li>\n</ul>\n<span style="font-size: 16px\; font-family: arial\, sans-serif\;"><span style="font-size: 12pt\;">If you have any questions\, please contact Jack Myint at&nbsp\;<a href="mailto:jmyint@usasean.org">jmyint@usasean.org</a>.</span></span>
LOCATION:Conference Call
UID:e.9078.7687
SEQUENCE:3
DTSTAMP:20260420T070357Z
URL:http://usasean.memberzone.com/events/details/pre-mission-planning-call-2018-cambodia-business-mission-7687
END:VEVENT

END:VCALENDAR
