BEGIN:VCALENDAR
VERSION:2.0
PRODID:-//ChamberMaster//Event Calendar 2.0//EN
METHOD:PUBLISH
X-PUBLISHED-TTL:P3D
REFRESH-INTERVAL:P3D
CALSCALE:GREGORIAN
BEGIN:VEVENT
DTSTART;VALUE=DATE:20131005
DTEND;VALUE=DATE:20131006
TRANSP:TRANSPARENT
X-MICROSOFT-CDO-ALLDAYEVENT:TRUE
SUMMARY:Pre-CEO Summit Conference: Invest Indonesia
DESCRIPTION:The Pre-CEO Summit Conference: Invest Indonesia is a high-level business conference organised by the Indonesia Investment Coordinating Board (BKPM).\n\n	\n\n	The conference will be held back-to-back with the APEC CEO Summit 2013 in Bali.\n\n	\n\n	The Pre-CEO Summit Conference: Invest Indonesia will feature Prof. Dr. Nouriel Roubini\, a prominent world economist\, as the main speaker to present his views on the current economic condition and future economic performances of Indonesia\, India and China\, as well as their roles to the global economy.\n\n	\n\n	For more information please click here. \n\n	 \n\n	Business leaders\, business associations\, large companies\, as well as existing and potential investors in infrastructure projects are welcome to participate.
X-ALT-DESC;FMTTYPE=text/html:<div>\n	The Pre-CEO Summit Conference: Invest Indonesia is a high-level business conference organised by <strong>the Indonesia Investment Coordinating Board (BKPM)</strong>.<br />\n	<br />\n	The conference will be held back-to-back with the APEC CEO Summit 2013 in Bali.</div>\n<div>\n	<br />\n	The Pre-CEO Summit Conference: Invest Indonesia will feature Prof. Dr. Nouriel Roubini\, a prominent world economist\, as the main speaker to present his views on the current economic condition and future economic performances of Indonesia\, India and China\, as well as their roles to the global economy.<br />\n	<br />\n	For more information <a href="http://www.bkpm.go.id/contents/whats/68/87501/pre-ceo-summit-conference-invest-indonesia-bali--5-october-2013">please click here</a>.&nbsp\;<br />\n	&nbsp\;</div>\n<div>\n	Business leaders\, business associations\, large companies\, as well as existing and potential investors in infrastructure projects are welcome to participate.&nbsp\;</div>\n
LOCATION:Bali\, Indonesia
UID:e.9078.871
SEQUENCE:3
DTSTAMP:20260421T141238Z
URL:http://usasean.memberzone.com/events/details/pre-ceo-summit-conference-invest-indonesia-10-05-2013-871
END:VEVENT

END:VCALENDAR
