BEGIN:VCALENDAR
VERSION:2.0
PRODID:-//ChamberMaster//Event Calendar 2.0//EN
METHOD:PUBLISH
X-PUBLISHED-TTL:P3D
REFRESH-INTERVAL:P3D
CALSCALE:GREGORIAN
BEGIN:VEVENT
DTSTART;VALUE=DATE:20230208
DTEND;VALUE=DATE:20230210
TRANSP:TRANSPARENT
X-MICROSOFT-CDO-ALLDAYEVENT:TRUE
SUMMARY:PowerTrends 2023: Post COVID-19 (Leverage International supported by the US ASEAN Business Council)
DESCRIPTION:
X-ALT-DESC;FMTTYPE=text/html:<quillbot-extension-portal></quillbot-extension-portal><quillbot-extension-portal></quillbot-extension-portal><quillbot-extension-portal></quillbot-extension-portal><quillbot-extension-portal></quillbot-extension-portal><quillbot-extension-portal></quillbot-extension-portal><quillbot-extension-portal></quillbot-extension-portal>
LOCATION:
UID:e.9078.8947
SEQUENCE:3
DTSTAMP:20260421T160712Z
URL:http://usasean.memberzone.com/events/details/powertrends-2023-post-covid-19-leverage-international-supported-by-the-us-asean-business-council-8947
END:VEVENT

END:VCALENDAR
