BEGIN:VCALENDAR
VERSION:2.0
PRODID:-//ChamberMaster//Event Calendar 2.0//EN
METHOD:PUBLISH
X-PUBLISHED-TTL:P3D
REFRESH-INTERVAL:P3D
CALSCALE:GREGORIAN
BEGIN:VEVENT
DTSTART:20240321T130000Z
DTEND:20240321T140000Z
X-MICROSOFT-CDO-ALLDAYEVENT:FALSE
SUMMARY:Post-Election Discussion with Amb Rosan Roeslani
DESCRIPTION:Registration: https://app.associationsphere.com/4PRRA
X-ALT-DESC;FMTTYPE=text/html:Registration:&nbsp\;<a data-outlook-id="018296b2-7c40-4f65-a967-bc34e0ce1285" href="https://protect-us.mimecast.com/s/1Jd_CmZkLDSgE38tGme9G" style="color: rgb(0\, 120\, 215)\; font-family: Calibri\; font-size: 15px\;" title="https://protect-us.mimecast.com/s/1Jd_CmZkLDSgE38tGme9G">https://app.associationsphere.com/4PRRA</a>
LOCATION:
UID:e.9078.9252
SEQUENCE:3
DTSTAMP:20260422T052233Z
URL:http://usasean.memberzone.com/events/details/post-election-discussion-with-amb-rosan-roeslani-9252
END:VEVENT

END:VCALENDAR
