BEGIN:VCALENDAR
VERSION:2.0
PRODID:-//ChamberMaster//Event Calendar 2.0//EN
METHOD:PUBLISH
X-PUBLISHED-TTL:P3D
REFRESH-INTERVAL:P3D
CALSCALE:GREGORIAN
BEGIN:VEVENT
DTSTART:20150323T033000Z
DTEND:20150323T050000Z
X-MICROSOFT-CDO-ALLDAYEVENT:FALSE
SUMMARY:Policy Planning Roundtable with Mr. Ziad Haider\, U.S. Department of State
DESCRIPTION:Policy Planning Roundtable with Mr. Ziad Haider\, Policy Planning Staff\, Office of the Secretary\, U.S. Department of State
X-ALT-DESC;FMTTYPE=text/html:Policy Planning Roundtable with Mr. Ziad Haider\, Policy Planning Staff\, Office of the Secretary\, U.S. Department of State
LOCATION:Singapore
UID:e.9078.1512
SEQUENCE:3
DTSTAMP:20260419T172203Z
URL:http://usasean.memberzone.com/events/details/policy-planning-roundtable-with-mr-ziad-haider-u-s-department-of-state-03-22-2015-1512
END:VEVENT

END:VCALENDAR
