BEGIN:VCALENDAR
VERSION:2.0
PRODID:-//ChamberMaster//Event Calendar 2.0//EN
METHOD:PUBLISH
X-PUBLISHED-TTL:P3D
REFRESH-INTERVAL:P3D
CALSCALE:GREGORIAN
BEGIN:VEVENT
DTSTART:20180207T020000Z
DTEND:20180207T053000Z
X-MICROSOFT-CDO-ALLDAYEVENT:FALSE
SUMMARY:Policy Dialogue Series - Ministry of Trade of Indonesia
DESCRIPTION:The Trade and Development Development Agency (BPPP) of the Ministry of Trade of the Republic of Indonesia in cooperation with Australia Indonesia Partnership for Economic Governance (AIPEG) will organize a Policy Dialogue Series with the topic "Pursuing Economic Growth Through Foreign Export-Oriented Investment".
X-ALT-DESC;FMTTYPE=text/html:<pre class="tw-data-text tw-ta tw-text-small" data-fulltext="" data-placeholder="Terjemahan" dir="ltr" id="tw-target-text" style="text-align: left\; height: 216px\;">\n<span style="font-size:14px\;"><span style="font-family: arial\;"><span lang="en">The Trade and Development Development Agency (BPPP) of the Ministry of Trade of the Republic of Indonesia in cooperation with Australia Indonesia Partnership for Economic Governance (AIPEG) will organize a Policy Dialogue Series with the topic &quot\;Pursuing Economic Growth Through Foreign Export-Oriented Investment&quot\;.</span></span></span></pre>\n
LOCATION:Auditorium Gedung Utama\, Kementerian Perdagangam Jl. M.I Ridwan Rais No.5\, Jakarta Pusat
UID:e.9078.6460
SEQUENCE:3
DTSTAMP:20260419T164838Z
URL:http://usasean.memberzone.com/events/details/policy-dialogue-series-ministry-of-trade-of-indonesia-6460
END:VEVENT

END:VCALENDAR
