BEGIN:VCALENDAR
VERSION:2.0
PRODID:-//ChamberMaster//Event Calendar 2.0//EN
METHOD:PUBLISH
X-PUBLISHED-TTL:P3D
REFRESH-INTERVAL:P3D
CALSCALE:GREGORIAN
BEGIN:VEVENT
DTSTART:20180202T013000Z
DTEND:20180202T023000Z
X-MICROSOFT-CDO-ALLDAYEVENT:FALSE
SUMMARY:Planning Call for the Indonesia SME E-commerce Report
DESCRIPTION:Please join us to discuss a new research project on enabling e-commerce in Indonesia\, conducted in cooperation with students of George Washington University's Elliot School of International Affairs. This call will discuss what issues we would like to explore in this project\, how it may be used\, and what members would like to contribute beyond the basic research the authors are planning.
X-ALT-DESC;FMTTYPE=text/html:Please join us to discuss a new research project on enabling e-commerce in Indonesia\, conducted in cooperation with students of George Washington University&#39\;s Elliot School of International Affairs.&nbsp\;This call will discuss what issues we would like to explore in this project\, how it may be used\, and what members would like to contribute beyond the basic research the authors are planning.
LOCATION:Conference Call (dial-in details and agenda will be distributed to registrants ahead of the call)
UID:e.9078.6463
SEQUENCE:3
DTSTAMP:20260419T164729Z
URL:http://usasean.memberzone.com/events/details/planning-call-for-the-indonesia-sme-e-commerce-report-6463
END:VEVENT

END:VCALENDAR
