BEGIN:VCALENDAR
VERSION:2.0
PRODID:-//ChamberMaster//Event Calendar 2.0//EN
METHOD:PUBLISH
X-PUBLISHED-TTL:P3D
REFRESH-INTERVAL:P3D
CALSCALE:GREGORIAN
BEGIN:VEVENT
DTSTART:20191114T020000Z
DTEND:20191114T030000Z
X-MICROSOFT-CDO-ALLDAYEVENT:FALSE
SUMMARY:Planning Call for the ASEAN Secretariat Mission
DESCRIPTION:The planning call will feature a briefing from Melissa Brown (Charg  d'affaires\, U.S. Mission to ASEAN) on the U.S.- ASEAN political and economic relationship.
X-ALT-DESC;FMTTYPE=text/html:<span style="color: rgb(32\, 31\, 30)\; font-family: arial\; font-size: 16px\; text-align: justify\; background-color: rgb(255\, 255\, 255)\;">The planning call will feature a briefing from&nbsp\;</span><strong style="color: rgb(32\, 31\, 30)\; font-family: arial\; font-size: 16px\; text-align: justify\; background-color: rgb(255\, 255\, 255)\;">Melissa Brown&nbsp\;</strong><span style="color: rgb(32\, 31\, 30)\; font-family: arial\; font-size: 16px\; text-align: justify\; background-color: rgb(255\, 255\, 255)\;">(Charg&eacute\;&nbsp\;d&#39\;affaires\, U.S. Mission to ASEAN)&nbsp\;on the U.S.- ASEAN political and economic relationship.</span>
LOCATION:
UID:e.9078.8068
SEQUENCE:3
DTSTAMP:20260424T183423Z
URL:http://usasean.memberzone.com/events/details/planning-call-for-the-asean-secretariat-mission-8068
END:VEVENT

END:VCALENDAR
