BEGIN:VCALENDAR
VERSION:2.0
PRODID:-//ChamberMaster//Event Calendar 2.0//EN
METHOD:PUBLISH
X-PUBLISHED-TTL:P3D
REFRESH-INTERVAL:P3D
CALSCALE:GREGORIAN
BEGIN:VEVENT
DTSTART:20180827T010000Z
DTEND:20180827T020000Z
X-MICROSOFT-CDO-ALLDAYEVENT:FALSE
SUMMARY:Planning Call for the 2018 Mission to ASEAN Economic Ministers Meeting
DESCRIPTION:
X-ALT-DESC;FMTTYPE=text/html:
LOCATION:
UID:e.9078.7651
SEQUENCE:3
DTSTAMP:20260420T034011Z
URL:http://usasean.memberzone.com/events/details/planning-call-for-the-2018-mission-to-asean-economic-ministers-meeting-7651
END:VEVENT

END:VCALENDAR
