BEGIN:VCALENDAR
VERSION:2.0
PRODID:-//ChamberMaster//Event Calendar 2.0//EN
METHOD:PUBLISH
X-PUBLISHED-TTL:P3D
REFRESH-INTERVAL:P3D
CALSCALE:GREGORIAN
BEGIN:VEVENT
DTSTART:20180302T020000Z
DTEND:20180302T030000Z
X-MICROSOFT-CDO-ALLDAYEVENT:FALSE
SUMMARY:Planning Call for the 2018 ASEAN Secretariat Business Mission
DESCRIPTION:Planning call for the 2018 ASEAN Secretariat Business Mission (taking place on Monday\, March 12 in Jakarta)\, featuring a briefing from Peter Thorin and  Doug Fisk\, U.S. Mission to ASEAN.
X-ALT-DESC;FMTTYPE=text/html:Planning call for the 2018 ASEAN Secretariat Business Mission (taking place on Monday\, March 12 in Jakarta)\, featuring a briefing from Peter Thorin and&nbsp\;&nbsp\;Doug Fisk\, U.S. Mission to ASEAN.<br />\n&nbsp\;
LOCATION:Call-in coordinates will be distributed to registrants prior to the call.
UID:e.9078.6484
SEQUENCE:3
DTSTAMP:20260419T184600Z
URL:http://usasean.memberzone.com/events/details/planning-call-for-the-2018-asean-secretariat-business-mission-6484
END:VEVENT

END:VCALENDAR
