BEGIN:VCALENDAR
VERSION:2.0
PRODID:-//ChamberMaster//Event Calendar 2.0//EN
METHOD:PUBLISH
X-PUBLISHED-TTL:P3D
REFRESH-INTERVAL:P3D
CALSCALE:GREGORIAN
BEGIN:VEVENT
DTSTART:20180914T010000Z
DTEND:20180914T020000Z
X-MICROSOFT-CDO-ALLDAYEVENT:FALSE
SUMMARY:Planning Call for Singapore International Cyber Week (SICW) U.S. Private Sector Dialogue Dinner with ASEAN Ministers
DESCRIPTION:
X-ALT-DESC;FMTTYPE=text/html:
LOCATION:
UID:e.9078.7683
SEQUENCE:3
DTSTAMP:20260420T053735Z
URL:http://usasean.memberzone.com/events/details/planning-call-for-singapore-international-cyber-week-sicw-u-s-private-sector-dialogue-dinner-with-asean-ministers-7683
END:VEVENT

END:VCALENDAR
