BEGIN:VCALENDAR
VERSION:2.0
PRODID:-//ChamberMaster//Event Calendar 2.0//EN
METHOD:PUBLISH
X-PUBLISHED-TTL:P3D
REFRESH-INTERVAL:P3D
CALSCALE:GREGORIAN
BEGIN:VEVENT
DTSTART:20190702T010000Z
DTEND:20190702T020000Z
X-MICROSOFT-CDO-ALLDAYEVENT:FALSE
SUMMARY:Planning Call for 2019 TELMIN Plenary Luncheon Sesssion
DESCRIPTION:The Council is pleased to invite you to a planning call to develop the concept note for our plenary luncheon session during the 2019 ASEAN Telecommunications and ICT Ministers (TELMIN) Meetings. Following approval of the luncheon from the Lao Ministry of Post and Telecommunications (the host for the 2019 meetings)\, the Ministry has requested that we provide them with a preliminary draft concept note by July 15. The purpose of this call is to gather input from members to develop this concept note. Please come prepared to discuss ideas and make decisions regarding the format and topics for the event. Following this event\, we will develop a concept note and send it to the Government of Laos on or before their July 15 deadline.
X-ALT-DESC;FMTTYPE=text/html:The Council is pleased to invite you to a planning call to develop the concept note for our plenary luncheon session during the 2019 ASEAN Telecommunications and ICT Ministers (TELMIN) Meetings. Following approval of the luncheon from the Lao Ministry of Post and Telecommunications (the host for the 2019 meetings)\, <strong>the Ministry has requested that we provide them with a preliminary draft concept note by July 15</strong>. The purpose of this call is to gather input from members to develop this concept note.&nbsp\;<strong>Please come prepared to discuss ideas and make decisions regarding the format and topics for the event.&nbsp\;</strong>Following this event\, we will develop a concept note and send it to the Government of Laos on or before their July 15 deadline.&nbsp\;
LOCATION:Dial-In Details
UID:e.9078.7945
SEQUENCE:3
DTSTAMP:20260425T021635Z
URL:http://usasean.memberzone.com/events/details/planning-call-for-2019-telmin-plenary-luncheon-sesssion-7945
END:VEVENT

END:VCALENDAR
