BEGIN:VCALENDAR
VERSION:2.0
PRODID:-//ChamberMaster//Event Calendar 2.0//EN
METHOD:PUBLISH
X-PUBLISHED-TTL:P3D
REFRESH-INTERVAL:P3D
CALSCALE:GREGORIAN
BEGIN:VEVENT
DTSTART:20130222T020000Z
DTEND:20130222T030000Z
X-MICROSOFT-CDO-ALLDAYEVENT:FALSE
SUMMARY:Philippines Work Plan 2013 Conference Call
DESCRIPTION:
X-ALT-DESC;FMTTYPE=text/html:
LOCATION:
UID:e.9078.696
SEQUENCE:3
DTSTAMP:20260422T081114Z
URL:http://usasean.memberzone.com/events/details/philippines-work-plan-2013-conference-call-02-21-2013-696
END:VEVENT

END:VCALENDAR
