BEGIN:VCALENDAR
VERSION:2.0
PRODID:-//ChamberMaster//Event Calendar 2.0//EN
METHOD:PUBLISH
X-PUBLISHED-TTL:P3D
REFRESH-INTERVAL:P3D
CALSCALE:GREGORIAN
BEGIN:VEVENT
DTSTART;VALUE=DATE:20140724
DTEND;VALUE=DATE:20140725
TRANSP:TRANSPARENT
X-MICROSOFT-CDO-ALLDAYEVENT:TRUE
SUMMARY:Philippines SME Event
DESCRIPTION:US-ASEAN Business Alliance for Competitive SMEs in the Philippines
X-ALT-DESC;FMTTYPE=text/html:US-ASEAN Business Alliance for Competitive SMEs in the Philippines
LOCATION:
UID:e.9078.1192
SEQUENCE:3
DTSTAMP:20260420T072712Z
URL:http://usasean.memberzone.com/events/details/philippines-sme-event-07-24-2014-1192
END:VEVENT

END:VCALENDAR
