BEGIN:VCALENDAR
VERSION:2.0
PRODID:-//ChamberMaster//Event Calendar 2.0//EN
METHOD:PUBLISH
X-PUBLISHED-TTL:P3D
REFRESH-INTERVAL:P3D
CALSCALE:GREGORIAN
BEGIN:VEVENT
DTSTART:20190627T010000Z
DTEND:20190627T020000Z
X-MICROSOFT-CDO-ALLDAYEVENT:FALSE
SUMMARY:Philippines Quarterly Committee Call
DESCRIPTION:The second Philippines Quarterly Committee Call features H.E. Jose Manuel G. Romualdez\, Ambassador of the Republic of the Philippines to the United States\, as guest speaker. The Ambassador will share his views and updates on initiatives\, policies\, and programs that promote greater PHL-US trade and investment. The committee call will also discuss the upcoming Philippines business mission on September 16-18\, 2019.
X-ALT-DESC;FMTTYPE=text/html:<span style="background-image: initial\; background-position: initial\; background-size: initial\; background-repeat: initial\; background-attachment: initial\; background-origin: initial\; background-clip: initial\;"><span style="font-family: arial\, sans-serif\;"><span style="font-size: 12pt\;">The second Philippines Quarterly Committee Call features&nbsp\;<strong><span style="font-weight: normal\;">H.E. Jose Manuel G. Romualdez\,</span></strong>&nbsp\;<em><span style="font-style: normal\;">Ambassador of the Republic of the Philippines to the United States<strong>\,</strong></span></em><strong><span style="font-weight: normal\;">&nbsp\;as guest speaker. The Ambassador will share his</span></strong>&nbsp\;</span></span></span><span style="font-family: arial\, sans-serif\;"><span style="font-size: 12pt\;">views and updates on initiatives\, policies\, and programs that promote greater PHL-US trade and investment<strong><span style="background-image: initial\; background-position: initial\; background-size: initial\; background-repeat: initial\; background-attachment: initial\; background-origin: initial\; background-clip: initial\;">.&nbsp\;</span></strong><strong><span style="background-image: initial\; background-position: initial\; background-size: initial\; background-repeat: initial\; background-attachment: initial\; background-origin: initial\; background-clip: initial\; font-weight: normal\;">The committee call will also discuss the upcoming Philippines business mission on September 16-18\, 2019.</span></strong></span></span>
LOCATION:Zoom call in details will be provided to registrants.
UID:e.9078.7922
SEQUENCE:3
DTSTAMP:20260425T021549Z
URL:http://usasean.memberzone.com/events/details/philippines-quarterly-committee-call-7922
END:VEVENT

END:VCALENDAR
