BEGIN:VCALENDAR
VERSION:2.0
PRODID:-//ChamberMaster//Event Calendar 2.0//EN
METHOD:PUBLISH
X-PUBLISHED-TTL:P3D
REFRESH-INTERVAL:P3D
CALSCALE:GREGORIAN
BEGIN:VEVENT
DTSTART:20220323T003000Z
DTEND:20220323T020000Z
X-MICROSOFT-CDO-ALLDAYEVENT:FALSE
SUMMARY:Philippines Q1 Committee Call
DESCRIPTION:US-ASEAN Philippines 1st Quarter Committee Call featuring Professor Aries Arugay
X-ALT-DESC;FMTTYPE=text/html:US-ASEAN Philippines 1st Quarter Committee Call featuring Professor Aries Arugay&nbsp\;<quillbot-extension-portal></quillbot-extension-portal>
LOCATION:Virtual call via Zoom
UID:e.9078.8727
SEQUENCE:3
DTSTAMP:20260422T175305Z
URL:http://usasean.memberzone.com/events/details/philippines-q1-committee-call-8727
END:VEVENT

END:VCALENDAR
