BEGIN:VCALENDAR
VERSION:2.0
PRODID:-//ChamberMaster//Event Calendar 2.0//EN
METHOD:PUBLISH
X-PUBLISHED-TTL:P3D
REFRESH-INTERVAL:P3D
CALSCALE:GREGORIAN
BEGIN:VEVENT
DTSTART:20190828T060000Z
DTEND:20190828T070000Z
X-MICROSOFT-CDO-ALLDAYEVENT:FALSE
SUMMARY:Philippines General Membership Meeting
DESCRIPTION:Philippines Membership Meeting with our Guest Speaker Atty. Jeremiah Belgica\, Director General of the Anti-Red Tape Authority (ARTA)
X-ALT-DESC;FMTTYPE=text/html:Philippines Membership Meeting with our Guest Speaker Atty. Jeremiah Belgica\, Director General of the Anti-Red Tape Authority (ARTA)
LOCATION:CITI Philippines 16th Floor\, Citi Plaza 34th Street corner Lane D Bonifacio Global City\, Taguig Philippines
UID:e.9078.8005
SEQUENCE:3
DTSTAMP:20260424T223827Z
URL:http://usasean.memberzone.com/events/details/philippines-general-membership-meeting-8005
END:VEVENT

END:VCALENDAR
