BEGIN:VCALENDAR
VERSION:2.0
PRODID:-//ChamberMaster//Event Calendar 2.0//EN
METHOD:PUBLISH
X-PUBLISHED-TTL:P3D
REFRESH-INTERVAL:P3D
CALSCALE:GREGORIAN
BEGIN:VEVENT
DTSTART:20190613T190000Z
DTEND:20190613T200000Z
X-MICROSOFT-CDO-ALLDAYEVENT:FALSE
SUMMARY:Philippines General Membership Meeting
DESCRIPTION:Philippine General Membership Meeting\n\nGuest Speaker: Assistant Secretary Tony Lambino\, Department of Finance
X-ALT-DESC;FMTTYPE=text/html:Philippine General Membership Meeting<br />\nGuest Speaker: Assistant Secretary Tony Lambino\, Department of Finance
LOCATION:SAS Institute (Philippines) Inc. 9/F\, Asian Century Center 27th Street corner 3rd and 4th Avenue Taguig City\, Philippines 1634
UID:e.9078.7905
SEQUENCE:3
DTSTAMP:20260425T021648Z
URL:http://usasean.memberzone.com/events/details/philippines-general-membership-meeting-7905
END:VEVENT

END:VCALENDAR
