BEGIN:VCALENDAR
VERSION:2.0
PRODID:-//ChamberMaster//Event Calendar 2.0//EN
METHOD:PUBLISH
X-PUBLISHED-TTL:P3D
REFRESH-INTERVAL:P3D
CALSCALE:GREGORIAN
BEGIN:VEVENT
DTSTART:20181204T210000Z
DTEND:20181204T230000Z
X-MICROSOFT-CDO-ALLDAYEVENT:FALSE
SUMMARY:Philippines General Membership Meeting
DESCRIPTION:
X-ALT-DESC;FMTTYPE=text/html:
LOCATION:3M Philippine Customer Technical Center 8th Floor Cocolight Building 11th avenue corner 39th street\, BGC\, Taguig City\, 1634 Philippines.
UID:e.9078.7742
SEQUENCE:3
DTSTAMP:20260425T124518Z
URL:http://usasean.memberzone.com/events/details/philippines-general-membership-meeting-7742
END:VEVENT

END:VCALENDAR
