BEGIN:VCALENDAR
VERSION:2.0
PRODID:-//ChamberMaster//Event Calendar 2.0//EN
METHOD:PUBLISH
X-PUBLISHED-TTL:P3D
REFRESH-INTERVAL:P3D
CALSCALE:GREGORIAN
BEGIN:VEVENT
DTSTART:20140116T130000Z
DTEND:20140116T140000Z
X-MICROSOFT-CDO-ALLDAYEVENT:FALSE
SUMMARY:Philippines Committee Quarterly Conference Call
DESCRIPTION:Philippines Committee Quarterly Conference Call
X-ALT-DESC;FMTTYPE=text/html:Philippines Committee Quarterly Conference Call
LOCATION:Conference Line
UID:e.9078.1010
SEQUENCE:3
DTSTAMP:20260421T035451Z
URL:http://usasean.memberzone.com/events/details/philippines-committee-quarterly-conference-call-01-16-2014-1010
END:VEVENT

END:VCALENDAR
