BEGIN:VCALENDAR
VERSION:2.0
PRODID:-//ChamberMaster//Event Calendar 2.0//EN
METHOD:PUBLISH
X-PUBLISHED-TTL:P3D
REFRESH-INTERVAL:P3D
CALSCALE:GREGORIAN
BEGIN:VEVENT
DTSTART:20180110T133000Z
DTEND:20180110T143000Z
X-MICROSOFT-CDO-ALLDAYEVENT:FALSE
SUMMARY:Philippines Committee Quarterly Call
DESCRIPTION:Please join us for the first Philippines Committee Quarterly Call of 2018. During the call we will review the 2018 Work Plan and discuss the Committee's priorities and upcoming opportunities for the year\, including the 2018 Philippines Business Mission.  A copy of the 2018 Work Plan for the Philippines Committee will be sent out prior to the call.  If you have any questions or would like to suggest an item to be discussed on the call\, please contact Riley Smith at rsmith@usasean.org.
X-ALT-DESC;FMTTYPE=text/html:Please join us for the first Philippines Committee Quarterly Call of 2018. During the call we will review the 2018 Work Plan and discuss the Committee&#39\;s priorities and upcoming opportunities for the year\, including the 2018 Philippines Business Mission.&nbsp\; A copy of the 2018 Work Plan for the Philippines Committee will be sent out prior to the call.&nbsp\; If you have any questions or would like to suggest an item to be discussed on the call\, please contact Riley Smith at rsmith@usasean.org.
LOCATION:Dial in details will be provided to participants ahead of the call.
UID:e.9078.6442
SEQUENCE:3
DTSTAMP:20260419T130545Z
URL:http://usasean.memberzone.com/events/details/philippines-committee-quarterly-call-6442
END:VEVENT

END:VCALENDAR
