BEGIN:VCALENDAR
VERSION:2.0
PRODID:-//ChamberMaster//Event Calendar 2.0//EN
METHOD:PUBLISH
X-PUBLISHED-TTL:P3D
REFRESH-INTERVAL:P3D
CALSCALE:GREGORIAN
BEGIN:VEVENT
DTSTART;VALUE=DATE:20141022
DTEND;VALUE=DATE:20141024
TRANSP:TRANSPARENT
X-MICROSOFT-CDO-ALLDAYEVENT:TRUE
SUMMARY:Philippine BUSINESS MATCHING SESSION
DESCRIPTION:The US-ASEAN Business Council (US-ABC) and the Philippine Chamber of Commerce and Industry (PCCI)  will organize the first one-on-one reverse business matching session that will help promote linkages between big and small companies at the 40th Philippine Business Conference and Exposition (PBC&E)\, which will be held on 22-24 October 2014 at the Manila Hotel. \n\n \n\nThe PBC&E is the most important annual activity of the PCCI and has been the premier venue for the promotion of private enterprise in the Philippines. All PCCI Chapters across the country will be represented.
X-ALT-DESC;FMTTYPE=text/html:<span style="font-size:12px\;"><span style="font-family: calibri\,sans-serif\;">The US-ASEAN Business Council (US-ABC) and the Philippine Chamber of Commerce and Industry (PCCI) &nbsp\;will organize the first <strong>one-on-one reverse business matching</strong> session that will help promote linkages between big and small companies at the 40<sup>th</sup> Philippine Business Conference and Exposition (PBC&amp\;E)\, which will be held on 22-24 October 2014 at the Manila Hotel. </span><br />\n&nbsp\;<br />\n<span style="font-family: calibri\,sans-serif\;">The PBC&amp\;E is the </span><span style="font-family: calibri\,sans-serif\;">most important annual activity of the PCCI and has been the premier venue for the promotion of private enterprise in the Philippines. All PCCI Chapters across the country will be represented.&nbsp\; </span></span>
LOCATION:Manila Hotel\, Manila
UID:e.9078.1283
SEQUENCE:3
DTSTAMP:20260420T020933Z
URL:http://usasean.memberzone.com/events/details/philippine-business-matching-session-10-22-2014-1283
END:VEVENT

END:VCALENDAR
