BEGIN:VCALENDAR
VERSION:2.0
PRODID:-//ChamberMaster//Event Calendar 2.0//EN
METHOD:PUBLISH
X-PUBLISHED-TTL:P3D
REFRESH-INTERVAL:P3D
CALSCALE:GREGORIAN
BEGIN:VEVENT
DTSTART;VALUE=DATE:20180529
DTEND;VALUE=DATE:20180530
TRANSP:TRANSPARENT
X-MICROSOFT-CDO-ALLDAYEVENT:TRUE
SUMMARY:PHAP Health for Juan and Juana Forum
DESCRIPTION:Pharmaceutical and Healthcare Association of the Philippines: Moving Forward with the Philippine Health Agenda. The forum will put on spotlight successful healthcare models both in the Philippines and around the world as the country accelerates its bid to Universal Healthcare.  It seeks to demonstrate a whole-of-government and whole-of-society approach to Universal Healthcare\, where the government spearheads collaboration with the private sector.
X-ALT-DESC;FMTTYPE=text/html:Pharmaceutical and Healthcare Association of the Philippines: Moving Forward with the Philippine Health Agenda.&nbsp\;The forum will put on spotlight successful healthcare models both in the Philippines and around the world as the country accelerates its bid to Universal Healthcare. &nbsp\;It seeks to demonstrate a whole-of-government and whole-of-society approach to Universal Healthcare\, where the government spearheads collaboration with the private sector.
LOCATION:Philippine International Convention Center
UID:e.9078.6553
SEQUENCE:3
DTSTAMP:20260419T220555Z
URL:http://usasean.memberzone.com/events/details/phap-health-for-juan-and-juana-forum-6553
END:VEVENT

END:VCALENDAR
