BEGIN:VCALENDAR
VERSION:2.0
PRODID:-//ChamberMaster//Event Calendar 2.0//EN
METHOD:PUBLISH
X-PUBLISHED-TTL:P3D
REFRESH-INTERVAL:P3D
CALSCALE:GREGORIAN
BEGIN:VEVENT
DTSTART:20231106T190000Z
DTEND:20231106T200000Z
X-MICROSOFT-CDO-ALLDAYEVENT:FALSE
SUMMARY:Perspectives on US-China Competition in Indonesia and ASEAN
DESCRIPTION:
X-ALT-DESC;FMTTYPE=text/html:
LOCATION:US-ASEAN Business Council 1101 17th Street NW\, Suite 411\, Washington DC 20036
UID:e.9078.9196
SEQUENCE:3
DTSTAMP:20260421T173859Z
URL:http://usasean.memberzone.com/events/details/perspectives-on-us-china-competition-in-indonesia-and-asean-9196
END:VEVENT

END:VCALENDAR
