BEGIN:VCALENDAR
VERSION:2.0
PRODID:-//ChamberMaster//Event Calendar 2.0//EN
METHOD:PUBLISH
X-PUBLISHED-TTL:P3D
REFRESH-INTERVAL:P3D
CALSCALE:GREGORIAN
BEGIN:VEVENT
DTSTART;VALUE=DATE:20180917
DTEND;VALUE=DATE:20180918
TRANSP:TRANSPARENT
X-MICROSOFT-CDO-ALLDAYEVENT:TRUE
SUMMARY:OTT regulations advocacy
DESCRIPTION:Translation of OTT regulations submission\; Expenses for Council Rep to attend and speak at OTT regs workshop in Da Nang on Sep 21\, 2018
X-ALT-DESC;FMTTYPE=text/html:Translation of OTT regulations submission\; Expenses for Council Rep to attend and speak at OTT regs workshop in Da Nang on Sep 21\, 2018
LOCATION:
UID:e.9078.7696
SEQUENCE:3
DTSTAMP:20260420T052524Z
URL:http://usasean.memberzone.com/events/details/ott-regulations-advocacy-7696
END:VEVENT

END:VCALENDAR
