BEGIN:VCALENDAR
VERSION:2.0
PRODID:-//ChamberMaster//Event Calendar 2.0//EN
METHOD:PUBLISH
X-PUBLISHED-TTL:P3D
REFRESH-INTERVAL:P3D
CALSCALE:GREGORIAN
BEGIN:VEVENT
DTSTART:20240405T220000Z
DTEND:20240405T230000Z
X-MICROSOFT-CDO-ALLDAYEVENT:FALSE
SUMMARY:Networking Reception with Singapore Consul-General to San Francisco Craig Lim
DESCRIPTION:Location of Networking Reception:\n\nSalesforce Tower\n\n415 Mission Street\, 3rd Floor\n\nSan Francisco\, CA 94105
X-ALT-DESC;FMTTYPE=text/html:<br />\n<strong>Location of Networking Reception:</strong><br />\nSalesforce Tower<br />\n415 Mission Street\, 3rd Floor<br />\nSan Francisco\, CA 94105
LOCATION:
UID:e.9078.9269
SEQUENCE:3
DTSTAMP:20260422T071905Z
URL:http://usasean.memberzone.com/events/details/networking-reception-with-singapore-consul-general-to-san-francisco-craig-lim-9269
END:VEVENT

END:VCALENDAR
