BEGIN:VCALENDAR
VERSION:2.0
PRODID:-//ChamberMaster//Event Calendar 2.0//EN
METHOD:PUBLISH
X-PUBLISHED-TTL:P3D
REFRESH-INTERVAL:P3D
CALSCALE:GREGORIAN
BEGIN:VEVENT
DTSTART;VALUE=DATE:20141201
DTEND;VALUE=DATE:20141202
TRANSP:TRANSPARENT
X-MICROSOFT-CDO-ALLDAYEVENT:TRUE
SUMMARY:Networking Lunch with ABC Advisory Council and CIMB Group
DESCRIPTION:The US-ASEAN Business Council is pleased to bring your attention to the following event.\n\n\n\nhe ABC Advisory Council and CIMB Group are co-hosting a networking lunch in Malaysia. The lunch will take place at Hilton Kuala Lumpur on the 1st December between 12.30pm and 3.00pm.\n\n \n\nABC Advisory Council and CIMB Group have invited Tan Sri Zeti Akhtar Aziz (Governor of Bank Negara Malaysia) to share her insights.\n\n \n\nThis lunch is an opportunity to engage with business leaders\, senior representative of government and regulators from across ASEAN to discuss the economic landscape of our region.\n\n \n\nThe details of the event are:\n\nDate: 1st December 2014\n\nTime: 12.30pm to 3.45pm\n\nVenue: Hilton Kuala Lumpur\n\n \n\nShould you have any further queries\, please contact us at: secretariat@aseanbusinessclub.org we look forward to your response.
X-ALT-DESC;FMTTYPE=text/html:The US-ASEAN Business Council is pleased to bring your attention to the following event.<br />\n<br />\nhe ABC Advisory Council and CIMB Group are co-hosting a networking lunch in Malaysia. The lunch will take place at Hilton Kuala Lumpur on the 1st December between 12.30pm and 3.00pm.<br />\n&nbsp\;<br />\nABC Advisory Council and CIMB Group have invited Tan Sri Zeti Akhtar Aziz (Governor of Bank Negara Malaysia) to share her insights.<br />\n&nbsp\;<br />\nThis lunch is an opportunity to engage with business leaders\, senior representative of government and regulators from across ASEAN to discuss the economic landscape of our region.<br />\n&nbsp\;<br />\nThe details of the event are:<br />\nDate: 1st December 2014<br />\nTime: 12.30pm to 3.45pm<br />\nVenue: Hilton Kuala Lumpur<br />\n&nbsp\;<br />\nShould you have any further queries\, please contact us at<strong>: <em>secretariat@aseanbusinessclub.org</em></strong> we look forward to your response.
LOCATION:Hilton Kuala Lumpur
UID:e.9078.1314
SEQUENCE:3
DTSTAMP:20260419T222415Z
URL:http://usasean.memberzone.com/events/details/networking-lunch-with-abc-advisory-council-and-cimb-group-12-01-2014-1314
END:VEVENT

END:VCALENDAR
