BEGIN:VCALENDAR
VERSION:2.0
PRODID:-//ChamberMaster//Event Calendar 2.0//EN
METHOD:PUBLISH
X-PUBLISHED-TTL:P3D
REFRESH-INTERVAL:P3D
CALSCALE:GREGORIAN
BEGIN:VEVENT
DTSTART:20140325T130000Z
DTEND:20140325T150000Z
X-MICROSOFT-CDO-ALLDAYEVENT:FALSE
SUMMARY:NBR Report Launch: Myanmar's Growing Regional Role
DESCRIPTION:The National Bureau of Asian Research (NBR) and the US-ASEAN Business Council are pleased to invite you to Myanmar's Re-emergence: Prospects for U.S.-Myanmar Relations\, to be held in the Senate Visitors Center\, Room 203-02\, on March 25\, 2013\, 9 a.m. - 11 a.m. This panel discussion marks the roll-out of NBR's Special Report\, "Myanmar's Growing Regional Role"\, which assesses the current state of Myanmar and its role in Southeast Asia as 2014 ASEAN Chair. \n\n \n\nThe discussion will feature several expert panelists\, including Mely Caballero Anthony (Nanyang Technological University)\, Priscilla Clapp (U.S. Foreign Service\, retired)\, Catharin E. Dalpino (Foreign Service Institute)\, Alex Feldman (US-ASEAN Business Council)\, Meredith Miller (NBR)\, and Morten Pedersen (University of New South Wales). The panelists will discuss the emergence of Myanmar into the international economy and how the country's political and economic reforms open a window for the development of a more robust foreign policy and enhanced engagement with ASEAN\, the United States\, and the Asia-Pacific.
X-ALT-DESC;FMTTYPE=text/html:<span style="font-family: georgia\,serif\;"><span style="font-size: medium\;">The National Bureau of Asian Research (NBR) and the US-ASEAN Business Council are pleased to invite you to <strong>Myanmar&rsquo\;s Re-emergence: Prospects for U.S.-Myanmar Relations</strong>\, to be held in the Senate Visitors Center\, Room 203-02\, on March 25\, 2013\, 9 a.m. - 11 a.m. This panel discussion marks the roll-out of NBR&rsquo\;s <em>Special Report</em>\, &ldquo\;Myanmar&rsquo\;s Growing Regional Role&rdquo\;\, which assesses the current state of Myanmar and its role in Southeast Asia as 2014 ASEAN Chair. </span></span><br />\n&nbsp\;<br />\n<span style="font-size: medium\;"><span style="font-family: georgia\,serif\;">The discussion will feature several expert panelists\, including Mely Caballero Anthony (Nanyang Technological University)\, Priscilla Clapp (U.S. Foreign Service\, retired)\, Catharin E. Dalpino (Foreign Service Institute)\, Alex Feldman (US-ASEAN Business Council)\, Meredith Miller (NBR)\, and Morten Pedersen (University of New South Wales). The panelists will discuss the emergence of Myanmar into the international economy</span><span style="font-family: georgia\,serif\;"> and how the country&rsquo\;s political and economic reforms open a window for the development of a more robust foreign policy and enhanced engagement with ASEAN\, the United States\, and the Asia-Pacific. </span></span><br />\n&nbsp\;
LOCATION:Visitor's Center SVC 202-03 1st Street SE Washington D.C.
UID:e.9078.1067
SEQUENCE:3
DTSTAMP:20260420T155013Z
URL:http://usasean.memberzone.com/events/details/nbr-report-launch-myanmar-s-growing-regional-role-03-25-2014-1067
END:VEVENT

END:VCALENDAR
