BEGIN:VCALENDAR
VERSION:2.0
PRODID:-//ChamberMaster//Event Calendar 2.0//EN
METHOD:PUBLISH
X-PUBLISHED-TTL:P3D
REFRESH-INTERVAL:P3D
CALSCALE:GREGORIAN
BEGIN:VEVENT
DTSTART:20230127T143000Z
DTEND:20230127T153000Z
X-MICROSOFT-CDO-ALLDAYEVENT:FALSE
SUMMARY:Myanmar Roundtable with U Soe Myint\, Founder and Editor-in-Chief\, Mizzima News
DESCRIPTION:
X-ALT-DESC;FMTTYPE=text/html:
LOCATION:Zoom
UID:e.9078.8940
SEQUENCE:3
DTSTAMP:20260421T230405Z
URL:http://usasean.memberzone.com/events/details/myanmar-roundtable-with-u-soe-myint-founder-and-editor-in-chief-mizzima-news-8940
END:VEVENT

END:VCALENDAR
